BEGIN:VCALENDAR
VERSION:2.0
PRODID:-//The Musuneggi Financial Group - ECPv6.15.12.2//NONSGML v1.0//EN
CALSCALE:GREGORIAN
METHOD:PUBLISH
X-ORIGINAL-URL:https://www.mfgplanners.com
X-WR-CALDESC:Events for The Musuneggi Financial Group
REFRESH-INTERVAL;VALUE=DURATION:PT1H
X-Robots-Tag:noindex
X-PUBLISHED-TTL:PT1H
BEGIN:VTIMEZONE
TZID:America/New_York
BEGIN:DAYLIGHT
TZOFFSETFROM:-0500
TZOFFSETTO:-0400
TZNAME:EDT
DTSTART:20240310T070000
END:DAYLIGHT
BEGIN:STANDARD
TZOFFSETFROM:-0400
TZOFFSETTO:-0500
TZNAME:EST
DTSTART:20241103T060000
END:STANDARD
BEGIN:DAYLIGHT
TZOFFSETFROM:-0500
TZOFFSETTO:-0400
TZNAME:EDT
DTSTART:20250309T070000
END:DAYLIGHT
BEGIN:STANDARD
TZOFFSETFROM:-0400
TZOFFSETTO:-0500
TZNAME:EST
DTSTART:20251102T060000
END:STANDARD
BEGIN:DAYLIGHT
TZOFFSETFROM:-0500
TZOFFSETTO:-0400
TZNAME:EDT
DTSTART:20260308T070000
END:DAYLIGHT
BEGIN:STANDARD
TZOFFSETFROM:-0400
TZOFFSETTO:-0500
TZNAME:EST
DTSTART:20261101T060000
END:STANDARD
END:VTIMEZONE
BEGIN:VEVENT
DTSTART;TZID=America/New_York:20250327T173000
DTEND;TZID=America/New_York:20250327T193000
DTSTAMP:20260422T013805
CREATED:20250304T145638Z
LAST-MODIFIED:20250305T134848Z
UID:4449-1743096600-1743103800@www.mfgplanners.com
SUMMARY:EMPOWER HER:  A Workshop for Women on Financial Independence and Estate Planning
DESCRIPTION:Join us for an interactive workshop designed to help women take charge of their financial future. Learn the importance of creating an independent\, comprehensive estate plan. With guidance and practical tools\, you’ll gain confidence in managing your financial legacy no matter your stage in life. \nTo Register\, CLICK HERE
URL:https://www.mfgplanners.com/event/empower-her-a-workstop-for-women-on-financial-independence-and-estate-planning/
LOCATION:The Musuneggi Financial Group\, 4600 J Barry Court\, Suite 410\, Canonsburg\, PA\, 15317\, United States
END:VEVENT
END:VCALENDAR