BEGIN:VCALENDAR
VERSION:2.0
PRODID:-//The Musuneggi Financial Group - ECPv6.15.12.2//NONSGML v1.0//EN
CALSCALE:GREGORIAN
METHOD:PUBLISH
X-ORIGINAL-URL:https://www.mfgplanners.com
X-WR-CALDESC:Events for The Musuneggi Financial Group
REFRESH-INTERVAL;VALUE=DURATION:PT1H
X-Robots-Tag:noindex
X-PUBLISHED-TTL:PT1H
BEGIN:VTIMEZONE
TZID:America/New_York
BEGIN:DAYLIGHT
TZOFFSETFROM:-0500
TZOFFSETTO:-0400
TZNAME:EDT
DTSTART:20240310T070000
END:DAYLIGHT
BEGIN:STANDARD
TZOFFSETFROM:-0400
TZOFFSETTO:-0500
TZNAME:EST
DTSTART:20241103T060000
END:STANDARD
BEGIN:DAYLIGHT
TZOFFSETFROM:-0500
TZOFFSETTO:-0400
TZNAME:EDT
DTSTART:20250309T070000
END:DAYLIGHT
BEGIN:STANDARD
TZOFFSETFROM:-0400
TZOFFSETTO:-0500
TZNAME:EST
DTSTART:20251102T060000
END:STANDARD
BEGIN:DAYLIGHT
TZOFFSETFROM:-0500
TZOFFSETTO:-0400
TZNAME:EDT
DTSTART:20260308T070000
END:DAYLIGHT
BEGIN:STANDARD
TZOFFSETFROM:-0400
TZOFFSETTO:-0500
TZNAME:EST
DTSTART:20261101T060000
END:STANDARD
BEGIN:DAYLIGHT
TZOFFSETFROM:-0500
TZOFFSETTO:-0400
TZNAME:EDT
DTSTART:20270314T070000
END:DAYLIGHT
BEGIN:STANDARD
TZOFFSETFROM:-0400
TZOFFSETTO:-0500
TZNAME:EST
DTSTART:20271107T060000
END:STANDARD
END:VTIMEZONE
BEGIN:VEVENT
DTSTART;TZID=America/New_York:20250624T180000
DTEND;TZID=America/New_York:20250624T193000
DTSTAMP:20260421T211800
CREATED:20250605T202229Z
LAST-MODIFIED:20250605T204221Z
UID:4633-1750788000-1750793400@www.mfgplanners.com
SUMMARY:LEAVING A POSITIVE IMPACT:  TOOLS TO SHARE YOUR LEGACY
DESCRIPTION:
URL:https://www.mfgplanners.com/event/leaving-a-positive-impact-tools-to-share-your-legacy/
LOCATION:The Musuneggi Financial Group\, 4600 J Barry Court\, Suite 410\, Canonsburg\, PA\, 15317\, United States
END:VEVENT
BEGIN:VEVENT
DTSTART;TZID=America/New_York:20250708T173000
DTEND;TZID=America/New_York:20250708T193000
DTSTAMP:20260421T211800
CREATED:20250610T133041Z
LAST-MODIFIED:20250610T133041Z
UID:4640-1751995800-1752003000@www.mfgplanners.com
SUMMARY:Business at Baxter's
DESCRIPTION:
URL:https://www.mfgplanners.com/event/business-at-baxters/
LOCATION:Baxter’s Arcade\, 1800 Main Street\, Canonsburg\, PA\, 15137\, United States
END:VEVENT
BEGIN:VEVENT
DTSTART;TZID=America/New_York:20250826T113000
DTEND;TZID=America/New_York:20250826T133000
DTSTAMP:20260421T211800
CREATED:20250804T130843Z
LAST-MODIFIED:20250804T130843Z
UID:4704-1756207800-1756215000@www.mfgplanners.com
SUMMARY:Tax Planning Strategies for Affluent Families and Business Owners
DESCRIPTION:
URL:https://www.mfgplanners.com/event/tax-planning-strategies-for-affluent-families-and-business-owners/
LOCATION:The Musuneggi Financial Group\, 4600 J Barry Court\, Suite 410\, Canonsburg\, PA\, 15317\, United States
END:VEVENT
BEGIN:VEVENT
DTSTART;TZID=America/New_York:20250911T173000
DTEND;TZID=America/New_York:20250911T190000
DTSTAMP:20260421T211800
CREATED:20250806T174626Z
LAST-MODIFIED:20250806T174912Z
UID:4710-1757611800-1757617200@www.mfgplanners.com
SUMMARY:Women Who Wine With Style
DESCRIPTION:
URL:https://www.mfgplanners.com/event/women-who-wine-with-style/
LOCATION:PA
END:VEVENT
BEGIN:VEVENT
DTSTART;TZID=America/New_York:20250912T130000
DTEND;TZID=America/New_York:20250912T133000
DTSTAMP:20260421T211800
CREATED:20250811T204307Z
LAST-MODIFIED:20250908T185047Z
UID:4722-1757682000-1757683800@www.mfgplanners.com
SUMMARY:Insurance Matters Series
DESCRIPTION:Friday Focus: Insurance Matters\nWe’re bringing you informal and topical discussions on Insurance\nMatters. The sessions will be held on Zoom – so join our host Ean\nLivingood\, and learn more about how to protect what matters most. \nPlease register at: info@mfgplanners.com\nDates: Fridays in September\nTime: 1:00 – 1:30 pm
URL:https://www.mfgplanners.com/event/insurance-matters-series/
LOCATION:Webinar
END:VEVENT
BEGIN:VEVENT
DTSTART;TZID=America/New_York:20251210T160000
DTEND;TZID=America/New_York:20251210T190000
DTSTAMP:20260421T211800
CREATED:20251202T160748Z
LAST-MODIFIED:20251202T160748Z
UID:4720-1765382400-1765393200@www.mfgplanners.com
SUMMARY:Holiday Donation Party
DESCRIPTION: Celebrate the Season & Spread Joy!Join us for an evening of holiday cheer and tasty treats while giving back to the community! We partner with South Fayette School District in an effort to “Stuff a Bus” full of toys. Bring a new\, unwrapped toy to donate to the United State Marine Corps Reserve Toys for Tots program.
URL:https://www.mfgplanners.com/event/holiday-donation-party/
LOCATION:The Musuneggi Financial Group\, 4600 J Barry Court\, Suite 410\, Canonsburg\, PA\, 15317\, United States
ORGANIZER;CN="The Musuneggi Financial Group":MAILTO:info@mfgplanners.com
END:VEVENT
BEGIN:VEVENT
DTSTART;TZID=America/New_York:20260430T173000
DTEND;TZID=America/New_York:20260430T190000
DTSTAMP:20260421T211800
CREATED:20260312T131430Z
LAST-MODIFIED:20260312T131430Z
UID:4886-1777570200-1777575600@www.mfgplanners.com
SUMMARY:Women Who Wine & Travel
DESCRIPTION:
URL:https://www.mfgplanners.com/event/women-who-wine-travel-2/
LOCATION:The Musuneggi Financial Group\, 4600 J Barry Court\, Suite 410\, Canonsburg\, PA\, 15317\, United States
CATEGORIES:Live Event
ORGANIZER;CN="The Musuneggi Financial Group":MAILTO:info@mfgplanners.com
END:VEVENT
END:VCALENDAR