BEGIN:VCALENDAR
VERSION:2.0
PRODID:-//The Musuneggi Financial Group - ECPv6.15.12.2//NONSGML v1.0//EN
CALSCALE:GREGORIAN
METHOD:PUBLISH
X-WR-CALNAME:The Musuneggi Financial Group
X-ORIGINAL-URL:https://www.mfgplanners.com
X-WR-CALDESC:Events for The Musuneggi Financial Group
REFRESH-INTERVAL;VALUE=DURATION:PT1H
X-Robots-Tag:noindex
X-PUBLISHED-TTL:PT1H
BEGIN:VTIMEZONE
TZID:America/New_York
BEGIN:DAYLIGHT
TZOFFSETFROM:-0500
TZOFFSETTO:-0400
TZNAME:EDT
DTSTART:20230312T070000
END:DAYLIGHT
BEGIN:STANDARD
TZOFFSETFROM:-0400
TZOFFSETTO:-0500
TZNAME:EST
DTSTART:20231105T060000
END:STANDARD
BEGIN:DAYLIGHT
TZOFFSETFROM:-0500
TZOFFSETTO:-0400
TZNAME:EDT
DTSTART:20240310T070000
END:DAYLIGHT
BEGIN:STANDARD
TZOFFSETFROM:-0400
TZOFFSETTO:-0500
TZNAME:EST
DTSTART:20241103T060000
END:STANDARD
BEGIN:DAYLIGHT
TZOFFSETFROM:-0500
TZOFFSETTO:-0400
TZNAME:EDT
DTSTART:20250309T070000
END:DAYLIGHT
BEGIN:STANDARD
TZOFFSETFROM:-0400
TZOFFSETTO:-0500
TZNAME:EST
DTSTART:20251102T060000
END:STANDARD
END:VTIMEZONE
BEGIN:VEVENT
DTSTART;TZID=America/New_York:20240326T173000
DTEND;TZID=America/New_York:20240326T193000
DTSTAMP:20260419T170919
CREATED:20240301T170813Z
LAST-MODIFIED:20240311T181644Z
UID:4149-1711474200-1711481400@www.mfgplanners.com
SUMMARY:Women Who Wine & Travel
DESCRIPTION:Join Single Steps Strategies\, The Musuneggi Financial Group\, and Travel Advisor Amy Copus for an informative evening to discover where women are having the best vacation experiences today; where are today’s best hot spots the best ways for women to travel safely; as well as specific tips on how women can travel alone. Learn the benefits of using a travel agent and what they can provide.  \nAnd of course\, there will be wine! \nRSVP by March 18th by emailing here.  \nRefreshments and wine will be provided. 
URL:https://www.mfgplanners.com/event/women-who-wine-travel/
LOCATION:PA
CATEGORIES:Live Event
ORGANIZER;CN="The Musuneggi Financial Group":MAILTO:info@mfgplanners.com
END:VEVENT
END:VCALENDAR